BEGIN:VCALENDAR
VERSION:2.0
PRODID:-//Hamilton Naval Association - ECPv6.15.20//NONSGML v1.0//EN
CALSCALE:GREGORIAN
METHOD:PUBLISH
X-ORIGINAL-URL:https://hamiltonnaval.ca
X-WR-CALDESC:Events for Hamilton Naval Association
REFRESH-INTERVAL;VALUE=DURATION:PT1H
X-Robots-Tag:noindex
X-PUBLISHED-TTL:PT1H
BEGIN:VTIMEZONE
TZID:America/Toronto
BEGIN:DAYLIGHT
TZOFFSETFROM:-0500
TZOFFSETTO:-0400
TZNAME:EDT
DTSTART:20250309T070000
END:DAYLIGHT
BEGIN:STANDARD
TZOFFSETFROM:-0400
TZOFFSETTO:-0500
TZNAME:EST
DTSTART:20251102T060000
END:STANDARD
BEGIN:DAYLIGHT
TZOFFSETFROM:-0500
TZOFFSETTO:-0400
TZNAME:EDT
DTSTART:20260308T070000
END:DAYLIGHT
BEGIN:STANDARD
TZOFFSETFROM:-0400
TZOFFSETTO:-0500
TZNAME:EST
DTSTART:20261101T060000
END:STANDARD
BEGIN:DAYLIGHT
TZOFFSETFROM:-0500
TZOFFSETTO:-0400
TZNAME:EDT
DTSTART:20270314T070000
END:DAYLIGHT
BEGIN:STANDARD
TZOFFSETFROM:-0400
TZOFFSETTO:-0500
TZNAME:EST
DTSTART:20271107T060000
END:STANDARD
END:VTIMEZONE
BEGIN:VEVENT
DTSTART;TZID=America/Toronto:20260315T080000
DTEND;TZID=America/Toronto:20260315T170000
DTSTAMP:20260421T085915
CREATED:20250913T201328Z
LAST-MODIFIED:20250913T201329Z
UID:5127-1773561600-1773594000@hamiltonnaval.ca
SUMMARY:STAR's Birthday
DESCRIPTION:On this date in 1923\, Lt Ralph H. Yeates was appointed Commanding Officer of the Hamilton Half Company of the Royal Canadian Naval Reserve\, making us the second oldest Naval Reserve Division in Canada.  Happy 103rd birthday!
URL:https://hamiltonnaval.ca/event/stars-birthday/
LOCATION:Ontario
END:VEVENT
BEGIN:VEVENT
DTSTART;TZID=America/Toronto:20260325T113000
DTEND;TZID=America/Toronto:20260325T143000
DTSTAMP:20260421T085915
CREATED:20250725T173030Z
LAST-MODIFIED:20250725T173030Z
UID:5093-1774438200-1774449000@hamiltonnaval.ca
SUMMARY:March LWOTM
DESCRIPTION:Dr. Tabitha de Bruin\, the history editor at The Canadian Encyclopedia\, will be our guest speaker.
URL:https://hamiltonnaval.ca/event/march-lwotm/
LOCATION:Stoney Creek Legion Branch 622\, 12 King Steet East\, Stoney Creek\, ON\, L8G 1J8\, Canada
ORGANIZER;CN="Hamilton Naval Association":MAILTO:info@hamiltonnaval.ca
END:VEVENT
END:VCALENDAR